BEGIN:VCALENDAR
VERSION:2.0
PRODID:-//Sabre//Sabre VObject 4.5.8//EN
CALSCALE:GREGORIAN
BEGIN:VEVENT
UID:sabre-vobject-8846bb03-a8c2-4f00-8a27-cb316612d762
DTSTAMP:20260424T023948Z
SUMMARY:Heilige Messe
DESCRIPTION:https://pfarreien-bistum-augsburg.df-preview.de/heilige-messe_i
 d1751896
DTSTART;TZID=Europe/Berlin:20260522T160000
DURATION:PT30M
LOCATION:St. Martin
END:VEVENT
END:VCALENDAR
