BEGIN:VCALENDAR
VERSION:2.0
PRODID:-//Sabre//Sabre VObject 4.5.8//EN
CALSCALE:GREGORIAN
BEGIN:VEVENT
UID:sabre-vobject-44f592bd-12ae-423e-8472-c5f6c46419bf
DTSTAMP:20260422T135454Z
SUMMARY:Heilige Messe
DESCRIPTION:https://pfarreien-bistum-augsburg.df-preview.de/heilige-messe_i
 d1751838
DTSTART;TZID=Europe/Berlin:20260427T183000
DURATION:PT30M
LOCATION:St. Dominikus\, Attenhofener Weg 2\, 89284 Pfaffenhofen an der Rot
 h
END:VEVENT
END:VCALENDAR
