BEGIN:VCALENDAR
VERSION:2.0
PRODID:-//Sabre//Sabre VObject 4.5.8//EN
CALSCALE:GREGORIAN
BEGIN:VEVENT
UID:sabre-vobject-7fc76e81-16a7-4f86-9e4f-ace266b8eb59
DTSTAMP:20260425T181719Z
SUMMARY:Dankandacht für alle Erstkommunionkinder der Pfarreiengemeinschaft
DESCRIPTION:https://pfarreien-bistum-augsburg.df-preview.de/dankandacht-fue
 r-alle-erstkommunionkinder-der-pfarreiengemeinschaft_id1751742
DTSTART;TZID=Europe/Berlin:20260501T160000
DURATION:PT30M
LOCATION:St. Michael
END:VEVENT
END:VCALENDAR
