BEGIN:VCALENDAR
VERSION:2.0
PRODID:-//Sabre//Sabre VObject 4.5.8//EN
CALSCALE:GREGORIAN
BEGIN:VEVENT
UID:sabre-vobject-88b32777-ef25-4e6f-abac-b679e8ad292a
DTSTAMP:20260422T222709Z
SUMMARY:Maiandacht mit Hochw. Pfarrer Florian Stadlmayr\, Stadtpfarrer Schr
 obenhausen (mit den Erstkommunionkindern aus Oberlauterbach\, Gachenbach u
 nd Peutenhausen und den Ministranten aus Weilach\, G
DESCRIPTION:https://pfarreien-bistum-augsburg.df-preview.de/maiandacht-mit-
 hochw-pfarrer-florian-stadlmayr-stadtpfarrer-schrobenhausen-mit-den-erstko
 mmunionkindern-aus-oberlauterbach-gachenbach-und-peutenhausen-und-den-mini
 stranten-aus-weilach-g_id1751712
DTSTART;TZID=Europe/Berlin:20260524T143000
DURATION:PT30M
LOCATION:Wallfahrtskirchenstiftung Mariä Geburt
END:VEVENT
END:VCALENDAR
