BEGIN:VCALENDAR
VERSION:2.0
PRODID:-//Sabre//Sabre VObject 4.5.8//EN
CALSCALE:GREGORIAN
BEGIN:VEVENT
UID:sabre-vobject-0c22c352-ee12-43c5-aa5e-df1cda50b76d
DTSTAMP:20260422T230945Z
SUMMARY:Probe Erstkommunion
DESCRIPTION:https://pfarreien-bistum-augsburg.df-preview.de/probe-erstkommu
 nion_id1751612
DTSTART;TZID=Europe/Berlin:20260425T103000
DURATION:PT30M
LOCATION:St. Maria und Florian
END:VEVENT
END:VCALENDAR
