BEGIN:VCALENDAR
VERSION:2.0
PRODID:-//Sabre//Sabre VObject 4.5.8//EN
CALSCALE:GREGORIAN
BEGIN:VEVENT
UID:sabre-vobject-c68d009b-84b4-4755-beb8-8b05c0f891b9
DTSTAMP:20260424T081049Z
SUMMARY:Maiandacht mit den Weilacher Senioren\, anschließend Kirchenführu
 ng
DESCRIPTION:https://pfarreien-bistum-augsburg.df-preview.de/maiandacht-mit-
 den-weilacher-senioren-anschliessend-kirchenfuehrung_id1751585
DTSTART;TZID=Europe/Berlin:20260513T150000
DURATION:PT30M
LOCATION:Wallfahrtskirchenstiftung Mariä Geburt
END:VEVENT
END:VCALENDAR
