BEGIN:VCALENDAR
VERSION:2.0
PRODID:-//Sabre//Sabre VObject 4.5.8//EN
CALSCALE:GREGORIAN
BEGIN:VEVENT
UID:sabre-vobject-7f7f77b6-3443-469e-8b6c-aa56d5e83cb9
DTSTAMP:20260423T234648Z
SUMMARY:Salve Regina und Rosenkranz
DESCRIPTION:https://pfarreien-bistum-augsburg.df-preview.de/salve-regina-un
 d-rosenkranz_id1751537
DTSTART;TZID=Europe/Berlin:20260428T083000
DURATION:PT30M
LOCATION:Mariä Schmerzen u. St. Ulrich\, Kirchhof 4\, 87764 Maria Steinbac
 h
END:VEVENT
END:VCALENDAR
