BEGIN:VCALENDAR
VERSION:2.0
PRODID:-//Sabre//Sabre VObject 4.5.8//EN
CALSCALE:GREGORIAN
BEGIN:VEVENT
UID:sabre-vobject-fecd51f2-a86d-4992-a395-663689fabcd9
DTSTAMP:20260424T225750Z
SUMMARY:Taferlrosenkranz
DESCRIPTION:https://pfarreien-bistum-augsburg.df-preview.de/taferlrosenkran
 z_id1751464
DTSTART;TZID=Europe/Berlin:20260422T190000
DURATION:PT30M
LOCATION:St. Nikolaus
END:VEVENT
END:VCALENDAR
