BEGIN:VCALENDAR
VERSION:2.0
PRODID:-//Sabre//Sabre VObject 4.5.8//EN
CALSCALE:GREGORIAN
BEGIN:VEVENT
UID:sabre-vobject-2a891a98-5bf1-445f-925f-6d3c7d4b1b07
DTSTAMP:20260423T142018Z
SUMMARY:Rosenkranz
DESCRIPTION:https://pfarreien-bistum-augsburg.df-preview.de/rosenkranz_id17
 51456
DTSTART;TZID=Europe/Berlin:20260517T070000
DURATION:PT30M
LOCATION:Wallfahrtskirchenstiftung Mariä Geburt
END:VEVENT
END:VCALENDAR
