BEGIN:VCALENDAR
VERSION:2.0
PRODID:-//Sabre//Sabre VObject 4.5.8//EN
CALSCALE:GREGORIAN
BEGIN:VEVENT
UID:sabre-vobject-8f0f4988-a924-4758-8f80-9fe5b2007ad5
DTSTAMP:20260423T080201Z
SUMMARY:Maiandacht mit Hochw. Werner Dippel\, Dekan\, Neuburg-Schrobenhause
 n\, mit dem Kirchenchor Klenau-Junkenhofen  (mit den Erstkommunionkindern 
 aus Aresing\, Rettenbach\, Weilenbach und Autenzell)
DESCRIPTION:https://pfarreien-bistum-augsburg.df-preview.de/maiandacht-mit-
 hochw-werner-dippel-dekan-neuburg-schrobenhausen-mit-dem-kirchenchor-klena
 u-junkenhofen-mit-den-erstkommunionkindern-aus-aresing-rettenbach-weilenba
 ch-und-autenzell_id1751455
DTSTART;TZID=Europe/Berlin:20260517T143000
DURATION:PT30M
LOCATION:Wallfahrtskirchenstiftung Mariä Geburt
END:VEVENT
END:VCALENDAR
