BEGIN:VCALENDAR
VERSION:2.0
PRODID:-//Sabre//Sabre VObject 4.5.8//EN
CALSCALE:GREGORIAN
BEGIN:VEVENT
UID:sabre-vobject-4110f789-9d3b-4bfc-998c-1d05bf5415e2
DTSTAMP:20260423T111904Z
SUMMARY:Taufe
DESCRIPTION:https://pfarreien-bistum-augsburg.df-preview.de/taufe_id1751453
DTSTART;TZID=Europe/Berlin:20260517T114500
DURATION:PT30M
LOCATION:Wallfahrtskirchenstiftung Mariä Geburt
END:VEVENT
END:VCALENDAR
