BEGIN:VCALENDAR
VERSION:2.0
PRODID:-//Sabre//Sabre VObject 4.5.8//EN
CALSCALE:GREGORIAN
BEGIN:VEVENT
UID:sabre-vobject-42d469bd-2630-403a-a6ca-0ca5a862166b
DTSTAMP:20260422T190048Z
SUMMARY:Heilige Messe - Maria\, Mutter der Kirche - mit den Wallfahrern aus
  Schiltberg
DESCRIPTION:https://pfarreien-bistum-augsburg.df-preview.de/heilige-messe-m
 aria-mutter-der-kirche-mit-den-wallfahrern-aus-schiltberg_id1751441
DTSTART;TZID=Europe/Berlin:20260525T090000
DURATION:PT30M
LOCATION:Wallfahrtskirchenstiftung Mariä Geburt
END:VEVENT
END:VCALENDAR
