BEGIN:VCALENDAR
VERSION:2.0
PRODID:-//Sabre//Sabre VObject 4.5.8//EN
CALSCALE:GREGORIAN
BEGIN:VEVENT
UID:sabre-vobject-65b5d848-00d7-4088-bee1-9cf699050399
DTSTAMP:20260422T202654Z
SUMMARY:Rosenkranz
DESCRIPTION:https://pfarreien-bistum-augsburg.df-preview.de/rosenkranz_id17
 51440
DTSTART;TZID=Europe/Berlin:20260525T083000
DURATION:PT30M
LOCATION:Wallfahrtskirchenstiftung Mariä Geburt
END:VEVENT
END:VCALENDAR
