BEGIN:VCALENDAR
VERSION:2.0
PRODID:-//Sabre//Sabre VObject 4.5.8//EN
CALSCALE:GREGORIAN
BEGIN:VEVENT
UID:sabre-vobject-726b7886-8169-4733-9c36-f8579e997d1a
DTSTAMP:20260422T165217Z
SUMMARY:Wort-Gottes-Feier mit Kommunionausteilung
DESCRIPTION:https://pfarreien-bistum-augsburg.df-preview.de/wort-gottes-fei
 er-mit-kommunionausteilung_id1751389
DTSTART;TZID=Europe/Berlin:20260517T103000
DURATION:PT30M
LOCATION:Mariä Opferung
END:VEVENT
END:VCALENDAR
