BEGIN:VCALENDAR
VERSION:2.0
PRODID:-//Sabre//Sabre VObject 4.5.8//EN
CALSCALE:GREGORIAN
BEGIN:VEVENT
UID:sabre-vobject-7b27a1bf-03c3-4a8f-ae8c-d1d95ed99cf9
DTSTAMP:20260425T193538Z
SUMMARY:Heilige Messe zum Kindergartenjubiläum (50 Jahre)
DESCRIPTION:https://pfarreien-bistum-augsburg.df-preview.de/heilige-messe-z
 um-kindergartenjubilaeum-50-jahre_id1751361
DTSTART;TZID=Europe/Berlin:20260516T133000
DURATION:PT30M
LOCATION:Heilig Kreuz
END:VEVENT
END:VCALENDAR
