BEGIN:VCALENDAR
VERSION:2.0
PRODID:-//Sabre//Sabre VObject 4.5.8//EN
CALSCALE:GREGORIAN
BEGIN:VEVENT
UID:sabre-vobject-f9143aa8-bae9-49be-a5f9-5561c9757081
DTSTAMP:20260424T205735Z
SUMMARY:Heilige Messe
DESCRIPTION:https://pfarreien-bistum-augsburg.df-preview.de/heilige-messe_i
 d1751355
DTSTART;TZID=Europe/Berlin:20260518T183000
DURATION:PT30M
LOCATION:Hlgst. Dreifaltigkeit
END:VEVENT
END:VCALENDAR
