BEGIN:VCALENDAR
VERSION:2.0
PRODID:-//Sabre//Sabre VObject 4.5.8//EN
CALSCALE:GREGORIAN
BEGIN:VEVENT
UID:sabre-vobject-8bc392f4-911a-4952-b64e-cfcaebb8d10c
DTSTAMP:20260424T214907Z
SUMMARY:Taufe Pauline Marie Mair
DESCRIPTION:https://pfarreien-bistum-augsburg.df-preview.de/taufe-pauline-m
 arie-mair_id1751296
DTSTART;TZID=Europe/Berlin:20260425T140000
DURATION:PT30M
LOCATION:St. Jakobus maj.\, Im Tal 10\, 86529 Schrobenhausen
END:VEVENT
END:VCALENDAR
