BEGIN:VCALENDAR
VERSION:2.0
PRODID:-//Sabre//Sabre VObject 4.5.8//EN
CALSCALE:GREGORIAN
BEGIN:VEVENT
UID:sabre-vobject-ba819a99-4553-455d-b5b0-e89aee7934e4
DTSTAMP:20260424T011752Z
SUMMARY:Bittgang nach Inchenhofen
DESCRIPTION:https://pfarreien-bistum-augsburg.df-preview.de/bittgang-nach-i
 nchenhofen_id1751280
DTSTART;TZID=Europe/Berlin:20260525T043000
DURATION:PT30M
LOCATION:St. Georg
END:VEVENT
END:VCALENDAR
