BEGIN:VCALENDAR
VERSION:2.0
PRODID:-//Sabre//Sabre VObject 4.5.8//EN
CALSCALE:GREGORIAN
BEGIN:VEVENT
UID:sabre-vobject-d98476b9-8481-4e6b-9041-f51dc2a8ebe9
DTSTAMP:20260424T081042Z
SUMMARY:Heilige Messe - Gebet für geistliche Berufe\, anschließend Euchar
 istische Anbetung bis 19.30 Uhr
DESCRIPTION:https://pfarreien-bistum-augsburg.df-preview.de/heilige-messe-g
 ebet-fuer-geistliche-berufe-anschliessend-eucharistische-anbetung-bis-19-3
 0-uhr_id1751278
DTSTART;TZID=Europe/Berlin:20260507T183000
DURATION:PT30M
LOCATION:St. Georg
END:VEVENT
END:VCALENDAR
