BEGIN:VCALENDAR
VERSION:2.0
PRODID:-//Sabre//Sabre VObject 4.5.8//EN
CALSCALE:GREGORIAN
BEGIN:VEVENT
UID:sabre-vobject-7fd5f050-b9eb-4667-8a05-b332821b0e18
DTSTAMP:20260425T232935Z
SUMMARY:Heilige Messe   e n t f ä l l t
DESCRIPTION:https://pfarreien-bistum-augsburg.df-preview.de/heilige-messe-e
 -n-t-f-ae-l-l-t_id1751257
DTSTART;TZID=Europe/Berlin:20260514T183000
DURATION:PT30M
LOCATION:Christkönig
END:VEVENT
END:VCALENDAR
