BEGIN:VCALENDAR
VERSION:2.0
PRODID:-//Sabre//Sabre VObject 4.5.8//EN
CALSCALE:GREGORIAN
BEGIN:VEVENT
UID:sabre-vobject-fbd2e906-cde8-4b38-81dd-338c005675d7
DTSTAMP:20260426T022221Z
SUMMARY:Rosenkranz
DESCRIPTION:https://pfarreien-bistum-augsburg.df-preview.de/rosenkranz_id17
 51238
DTSTART;TZID=Europe/Berlin:20260514T173000
DURATION:PT30M
LOCATION:Christkönig
END:VEVENT
END:VCALENDAR
