BEGIN:VCALENDAR
VERSION:2.0
PRODID:-//Sabre//Sabre VObject 4.5.8//EN
CALSCALE:GREGORIAN
BEGIN:VEVENT
UID:sabre-vobject-d088b0d7-4d58-46e5-bdd6-e3369a731eb7
DTSTAMP:20260424T235149Z
SUMMARY:Vorabendmesse
DESCRIPTION:https://pfarreien-bistum-augsburg.df-preview.de/vorabendmesse_i
 d1751215
DTSTART;TZID=Europe/Berlin:20260425T190000
DURATION:PT30M
LOCATION:Heilig Geist\, Griesweg 25a\, 86529 Schrobenhausen
END:VEVENT
END:VCALENDAR
