BEGIN:VCALENDAR
VERSION:2.0
PRODID:-//Sabre//Sabre VObject 4.5.8//EN
CALSCALE:GREGORIAN
BEGIN:VEVENT
UID:sabre-vobject-f1cc763b-8042-4ada-b500-bc17fceef9a4
DTSTAMP:20260424T213825Z
SUMMARY:Taufe Samuel Peter Summerer
DESCRIPTION:https://pfarreien-bistum-augsburg.df-preview.de/taufe-samuel-pe
 ter-summerer_id1751199
DTSTART;TZID=Europe/Berlin:20260425T140000
DURATION:PT30M
LOCATION:Heilig Geist\, Griesweg 25a\, 86529 Schrobenhausen
END:VEVENT
END:VCALENDAR
