BEGIN:VCALENDAR
VERSION:2.0
PRODID:-//Sabre//Sabre VObject 4.5.8//EN
CALSCALE:GREGORIAN
BEGIN:VEVENT
UID:sabre-vobject-b8b05e1c-58a3-4078-a879-2eab69d17d49
DTSTAMP:20260424T000621Z
SUMMARY:Amtsstunde bis 18:30
DESCRIPTION:https://pfarreien-bistum-augsburg.df-preview.de/amtsstunde-bis-
 18-30_id1751141
DTSTART;TZID=Europe/Berlin:20260424T180000
DURATION:PT30M
LOCATION:St. Peter und Paul\, Kirchtalstr. 2\, 87763 Lautrach
END:VEVENT
END:VCALENDAR
