BEGIN:VCALENDAR
VERSION:2.0
PRODID:-//Sabre//Sabre VObject 4.5.8//EN
CALSCALE:GREGORIAN
BEGIN:VEVENT
UID:sabre-vobject-cbb3af9f-d1d8-4b0d-918a-d211258c53f6
DTSTAMP:20260422T145255Z
SUMMARY:Erstkommunionfeier\, Hl. Messe für die verstorbenen Angehörigen d
 er Erstkommunikanten
DESCRIPTION:https://pfarreien-bistum-augsburg.df-preview.de/erstkommunionfe
 ier-hl-messe-fuer-die-verstorbenen-angehoerigen-der-erstkommunikanten_id17
 51139
DTSTART;TZID=Europe/Berlin:20260426T100000
DURATION:PT30M
LOCATION:St. Peter und Paul
END:VEVENT
END:VCALENDAR
