BEGIN:VCALENDAR
VERSION:2.0
PRODID:-//Sabre//Sabre VObject 4.5.8//EN
CALSCALE:GREGORIAN
BEGIN:VEVENT
UID:sabre-vobject-d621ec76-4bff-4c44-854b-f517c66bf2bc
DTSTAMP:20260424T102850Z
SUMMARY:Sonntag-Vorabendmesse
DESCRIPTION:https://pfarreien-bistum-augsburg.df-preview.de/sonntag-voraben
 dmesse_id1751121
DTSTART;TZID=Europe/Berlin:20260425T190000
DURATION:PT30M
LOCATION:St. Nikolaus\, Hitzenhofer Str. 1\, 87758 Kronburg-Kardorf
END:VEVENT
END:VCALENDAR
