BEGIN:VCALENDAR
VERSION:2.0
PRODID:-//Sabre//Sabre VObject 4.5.8//EN
CALSCALE:GREGORIAN
BEGIN:VEVENT
UID:sabre-vobject-9d85c4c5-ee28-494f-8e8a-328a48b4a97d
DTSTAMP:20260424T130115Z
SUMMARY:Barmherzigkeitsrosenkranz
DESCRIPTION:https://pfarreien-bistum-augsburg.df-preview.de/barmherzigkeits
 rosenkranz_id1751120
DTSTART;TZID=Europe/Berlin:20260425T184500
DURATION:PT30M
LOCATION:St. Nikolaus\, Hitzenhofer Str. 1\, 87758 Kronburg-Kardorf
END:VEVENT
END:VCALENDAR
