BEGIN:VCALENDAR
VERSION:2.0
PRODID:-//Sabre//Sabre VObject 4.5.8//EN
CALSCALE:GREGORIAN
BEGIN:VEVENT
UID:sabre-vobject-b7f96e5d-86fd-4396-8b63-7e2e4f294c51
DTSTAMP:20260424T060525Z
SUMMARY:Hl. Amt in der Pfarrkirche
DESCRIPTION:https://pfarreien-bistum-augsburg.df-preview.de/hl-amt-in-der-p
 farrkirche_id1751089
DTSTART;TZID=Europe/Berlin:20260426T103000
DURATION:PT30M
LOCATION:St. Peter und Paul\, Kirchtalstr. 2\, 87763 Lautrach
END:VEVENT
END:VCALENDAR
