BEGIN:VCALENDAR
VERSION:2.0
PRODID:-//Sabre//Sabre VObject 4.5.8//EN
CALSCALE:GREGORIAN
BEGIN:VEVENT
UID:sabre-vobject-6c0b735a-800c-4856-978f-7a160d284e58
DTSTAMP:20260424T095938Z
SUMMARY:Heilige Messe\; Dankgottesdienst der Erstkommunionkinder für Raune
 rtshofen und Remmeltshofen/Kadeltshofen
DESCRIPTION:https://pfarreien-bistum-augsburg.df-preview.de/heilige-messe-d
 ankgottesdienst-der-erstkommunionkinder-fuer-raunertshofen-und-remmeltshof
 en-kadeltshofen_id1750974
DTSTART;TZID=Europe/Berlin:20260428T183000
DURATION:PT30M
LOCATION:Kapelle St. Antonius\, Günzburger Straße 3\, 89284 Raunertshofen
END:VEVENT
END:VCALENDAR
