BEGIN:VCALENDAR
VERSION:2.0
PRODID:-//Sabre//Sabre VObject 4.5.8//EN
CALSCALE:GREGORIAN
BEGIN:VEVENT
UID:sabre-vobject-10e3455f-cb06-4ee1-a9c3-d93a6fb84e98
DTSTAMP:20260423T050526Z
SUMMARY:Abendmesse
DESCRIPTION:https://pfarreien-bistum-augsburg.df-preview.de/abendmesse_id17
 50950
DTSTART;TZID=Europe/Berlin:20260521T191500
DURATION:PT30M
LOCATION:St. Stephan
END:VEVENT
END:VCALENDAR
