BEGIN:VCALENDAR
VERSION:2.0
PRODID:-//Sabre//Sabre VObject 4.5.8//EN
CALSCALE:GREGORIAN
BEGIN:VEVENT
UID:sabre-vobject-d3e72e54-c66e-4ec8-8cea-4fb77a552b1a
DTSTAMP:20260423T082437Z
SUMMARY:Hochamt\, Öschgang\, Fahrzeugsegnung
DESCRIPTION:https://pfarreien-bistum-augsburg.df-preview.de/hochamt-oeschga
 ng-fahrzeugsegnung_id1750948
DTSTART;TZID=Europe/Berlin:20260514T083000
DURATION:PT30M
LOCATION:St. Stephan
END:VEVENT
END:VCALENDAR
