BEGIN:VCALENDAR
VERSION:2.0
PRODID:-//Sabre//Sabre VObject 4.5.8//EN
CALSCALE:GREGORIAN
BEGIN:VEVENT
UID:sabre-vobject-0466c9b9-320d-4eb4-8a59-5596628f4a1f
DTSTAMP:20260423T100528Z
SUMMARY:Bittgebet (keine Bittmesse)\, bei Regen in der Kirche
DESCRIPTION:https://pfarreien-bistum-augsburg.df-preview.de/bittgebet-keine
 -bittmesse-bei-regen-in-der-kirche_id1750947
DTSTART;TZID=Europe/Berlin:20260512T190000
DURATION:PT30M
LOCATION:St. Stephan
END:VEVENT
END:VCALENDAR
