BEGIN:VCALENDAR
VERSION:2.0
PRODID:-//Sabre//Sabre VObject 4.5.8//EN
CALSCALE:GREGORIAN
BEGIN:VEVENT
UID:sabre-vobject-8ca5e344-ba6c-4fb9-b5c5-c198bfc13bfe
DTSTAMP:20260423T142146Z
SUMMARY:Jugendgottesdienst
DESCRIPTION:https://pfarreien-bistum-augsburg.df-preview.de/jugendgottesdie
 nst_id1750945
DTSTART;TZID=Europe/Berlin:20260509T191500
DURATION:PT30M
LOCATION:St. Stephan
END:VEVENT
END:VCALENDAR
