BEGIN:VCALENDAR
VERSION:2.0
PRODID:-//Sabre//Sabre VObject 4.5.8//EN
CALSCALE:GREGORIAN
BEGIN:VEVENT
UID:sabre-vobject-2758cf22-f3c7-4b97-bd88-102c0ba81de5
DTSTAMP:20260422T210448Z
SUMMARY:Maiandacht (Musik: Geschw. Wölfle)
DESCRIPTION:https://pfarreien-bistum-augsburg.df-preview.de/maiandacht-musi
 k-geschw-woelfle_id1750922
DTSTART;TZID=Europe/Berlin:20260531T191500
DURATION:PT30M
LOCATION:St. Georg
END:VEVENT
END:VCALENDAR
