BEGIN:VCALENDAR
VERSION:2.0
PRODID:-//Sabre//Sabre VObject 4.5.8//EN
CALSCALE:GREGORIAN
BEGIN:VEVENT
UID:sabre-vobject-cf392e44-226c-477a-98ab-dba895a6508e
DTSTAMP:20260422T210528Z
SUMMARY:Morgenlob\, anschl. gemeinsames Frühstück
DESCRIPTION:https://pfarreien-bistum-augsburg.df-preview.de/morgenlob-ansch
 l-gemeinsames-fruehstueck_id1750913
DTSTART;TZID=Europe/Berlin:20260529T073000
DURATION:PT30M
LOCATION:St. Georg
END:VEVENT
END:VCALENDAR
