BEGIN:VCALENDAR
VERSION:2.0
PRODID:-//Sabre//Sabre VObject 4.5.8//EN
CALSCALE:GREGORIAN
BEGIN:VEVENT
UID:sabre-vobject-cf569003-d73b-49e5-90a1-ab632855aa22
DTSTAMP:20260424T193526Z
SUMMARY:Einsetzung - Ende der Nachtanbetung
DESCRIPTION:https://pfarreien-bistum-augsburg.df-preview.de/einsetzung-ende
 -der-nachtanbetung_id1750904
DTSTART;TZID=Europe/Berlin:20260523T074500
DURATION:PT30M
LOCATION:Basilica minor St. Alexander und Theodor
END:VEVENT
END:VCALENDAR
