BEGIN:VCALENDAR
VERSION:2.0
PRODID:-//Sabre//Sabre VObject 4.5.8//EN
CALSCALE:GREGORIAN
BEGIN:VEVENT
UID:sabre-vobject-a65ef923-c531-4937-9164-e277fbaebe0e
DTSTAMP:20260423T063359Z
SUMMARY:Wettermesse\, anschl. Bittgang (ganz Böhen)
DESCRIPTION:https://pfarreien-bistum-augsburg.df-preview.de/wettermesse-ans
 chl-bittgang-ganz-boehen_id1750885
DTSTART;TZID=Europe/Berlin:20260513T191500
DURATION:PT30M
LOCATION:St. Georg
END:VEVENT
END:VCALENDAR
