BEGIN:VCALENDAR
VERSION:2.0
PRODID:-//Sabre//Sabre VObject 4.5.8//EN
CALSCALE:GREGORIAN
BEGIN:VEVENT
UID:sabre-vobject-a6cf0265-0564-4340-a9e1-478afedd630c
DTSTAMP:20260423T080552Z
SUMMARY:Muttertagswallfahrt nach Oberwarlins\, bei Regen Maiandacht in der 
 Pfarrkirche
DESCRIPTION:https://pfarreien-bistum-augsburg.df-preview.de/muttertagswallf
 ahrt-nach-oberwarlins-bei-regen-maiandacht-in-der-pfarrkirche_id1750884
DTSTART;TZID=Europe/Berlin:20260510T200000
DURATION:PT30M
LOCATION:St. Georg
END:VEVENT
END:VCALENDAR
