BEGIN:VCALENDAR
VERSION:2.0
PRODID:-//Sabre//Sabre VObject 4.5.8//EN
CALSCALE:GREGORIAN
BEGIN:VEVENT
UID:sabre-vobject-eb0b95d4-0e85-4d22-a930-fc154c7a88cf
DTSTAMP:20260424T120332Z
SUMMARY:"Komm zu Jesus" Stille Anbetung durchgehend bis Mittwoch 22 Uhr
DESCRIPTION:https://pfarreien-bistum-augsburg.df-preview.de/komm-zu-jesus-s
 tille-anbetung-durchgehend-bis-mittwoch-22-uhr_id1750858
DTSTART;TZID=Europe/Berlin:20260526T090000
DURATION:PT30M
LOCATION:Basilica minor St. Alexander und Theodor
END:VEVENT
END:VCALENDAR
