BEGIN:VCALENDAR
VERSION:2.0
PRODID:-//Sabre//Sabre VObject 4.5.8//EN
CALSCALE:GREGORIAN
BEGIN:VEVENT
UID:sabre-vobject-1ac3a5e5-8f85-41c2-b3fd-61b73f5c9786
DTSTAMP:20260423T084736Z
SUMMARY:Konventmesse
DESCRIPTION:https://pfarreien-bistum-augsburg.df-preview.de/konventmesse_id
 1750815
DTSTART;TZID=Europe/Berlin:20260530T080000
DURATION:PT30M
LOCATION:Basilica minor St. Alexander und Theodor
END:VEVENT
END:VCALENDAR
