BEGIN:VCALENDAR
VERSION:2.0
PRODID:-//Sabre//Sabre VObject 4.5.8//EN
CALSCALE:GREGORIAN
BEGIN:VEVENT
UID:sabre-vobject-9cab04c3-38a4-4164-9b3f-1706e97d389d
DTSTAMP:20260424T171601Z
SUMMARY:Heilige Messe
DESCRIPTION:https://pfarreien-bistum-augsburg.df-preview.de/heilige-messe_i
 d1750809
DTSTART;TZID=Europe/Berlin:20260521T183000
DURATION:PT30M
LOCATION:Christkönig
END:VEVENT
END:VCALENDAR
