BEGIN:VCALENDAR
VERSION:2.0
PRODID:-//Sabre//Sabre VObject 4.5.8//EN
CALSCALE:GREGORIAN
BEGIN:VEVENT
UID:sabre-vobject-7749ecd4-b641-4269-a47f-bcb456b6cb7a
DTSTAMP:20260425T000025Z
SUMMARY:Rosenkranz
DESCRIPTION:https://pfarreien-bistum-augsburg.df-preview.de/rosenkranz_id17
 50808
DTSTART;TZID=Europe/Berlin:20260521T173000
DURATION:PT30M
LOCATION:Christkönig
END:VEVENT
END:VCALENDAR
