BEGIN:VCALENDAR
VERSION:2.0
PRODID:-//Sabre//Sabre VObject 4.5.8//EN
CALSCALE:GREGORIAN
BEGIN:VEVENT
UID:sabre-vobject-9839eb28-1883-4fdd-8773-f48d7c19e16b
DTSTAMP:20260424T131911Z
SUMMARY:Rosenkranz f.d. Frieden
DESCRIPTION:https://pfarreien-bistum-augsburg.df-preview.de/rosenkranz-f-d-
 frieden_id1750806
DTSTART;TZID=Europe/Berlin:20260422T163000
DURATION:PT30M
LOCATION:St. Georg
END:VEVENT
END:VCALENDAR
