BEGIN:VCALENDAR
VERSION:2.0
PRODID:-//Sabre//Sabre VObject 4.5.8//EN
CALSCALE:GREGORIAN
BEGIN:VEVENT
UID:sabre-vobject-b2d9e60b-e2d4-4cd9-baaf-76f8b6ff5e5c
DTSTAMP:20260424T221453Z
SUMMARY:Ökumenisches Friedensgebet
DESCRIPTION:https://pfarreien-bistum-augsburg.df-preview.de/oekumenisches-f
 riedensgebet_id1750798
DTSTART;TZID=Europe/Berlin:20260522T120000
DURATION:PT30M
LOCATION:Basilica minor St. Alexander und Theodor
END:VEVENT
END:VCALENDAR
