BEGIN:VCALENDAR
VERSION:2.0
PRODID:-//Sabre//Sabre VObject 4.5.8//EN
CALSCALE:GREGORIAN
BEGIN:VEVENT
UID:sabre-vobject-67b4e88a-7761-4edf-b3e1-4b800071f33f
DTSTAMP:20260424T070435Z
SUMMARY:Dankandacht der Erstkommunionkinder
DESCRIPTION:https://pfarreien-bistum-augsburg.df-preview.de/dankandacht-der
 -erstkommunionkinder_id1750784
DTSTART;TZID=Europe/Berlin:20260426T180000
DURATION:PT30M
LOCATION:St. Blasius
END:VEVENT
END:VCALENDAR
