BEGIN:VCALENDAR
VERSION:2.0
PRODID:-//Sabre//Sabre VObject 4.5.8//EN
CALSCALE:GREGORIAN
BEGIN:VEVENT
UID:sabre-vobject-7da0ffc7-5360-414c-896c-bf6a5a3703ec
DTSTAMP:20260424T055635Z
SUMMARY:Feier der Erstkommunion\n- Kollekte für die Belange unserer Pfarre
 i
DESCRIPTION:https://pfarreien-bistum-augsburg.df-preview.de/feier-der-erstk
 ommunion-kollekte-fuer-die-belange-unserer-pfarrei_id1750783
DTSTART;TZID=Europe/Berlin:20260426T103000
DURATION:PT30M
LOCATION:St. Blasius
END:VEVENT
END:VCALENDAR
