BEGIN:VCALENDAR
VERSION:2.0
PRODID:-//Sabre//Sabre VObject 4.5.8//EN
CALSCALE:GREGORIAN
BEGIN:VEVENT
UID:sabre-vobject-96e0950a-5284-436f-a533-b3cb9f8e106a
DTSTAMP:20260425T120454Z
SUMMARY:Beichtgelegenheit
DESCRIPTION:https://pfarreien-bistum-augsburg.df-preview.de/beichtgelegenhe
 it_id1750779
DTSTART;TZID=Europe/Berlin:20260517T173000
DURATION:PT30M
LOCATION:Christkönig
END:VEVENT
END:VCALENDAR
