BEGIN:VCALENDAR
VERSION:2.0
PRODID:-//Sabre//Sabre VObject 4.5.8//EN
CALSCALE:GREGORIAN
BEGIN:VEVENT
UID:sabre-vobject-f336366f-759e-4962-b76f-83ccd0c53311
DTSTAMP:20260425T173931Z
SUMMARY:Messfeier
DESCRIPTION:https://pfarreien-bistum-augsburg.df-preview.de/messfeier_id175
 0738
DTSTART;TZID=Europe/Berlin:20260527T191500
DURATION:PT30M
LOCATION:St. Ulrich
END:VEVENT
END:VCALENDAR
