BEGIN:VCALENDAR
VERSION:2.0
PRODID:-//Sabre//Sabre VObject 4.5.8//EN
CALSCALE:GREGORIAN
BEGIN:VEVENT
UID:sabre-vobject-e612ec33-c7a5-4d1f-a671-54024949b206
DTSTAMP:20260425T190211Z
SUMMARY:Maiandacht mit den Komm.Kindern der PG
DESCRIPTION:https://pfarreien-bistum-augsburg.df-preview.de/maiandacht-mit-
 den-komm-kindern-der-pg_id1750719
DTSTART;TZID=Europe/Berlin:20260517T191500
DURATION:PT30M
LOCATION:St. Ulrich
END:VEVENT
END:VCALENDAR
