BEGIN:VCALENDAR
VERSION:2.0
PRODID:-//Sabre//Sabre VObject 4.5.8//EN
CALSCALE:GREGORIAN
BEGIN:VEVENT
UID:sabre-vobject-0f573d03-5262-4cbe-ad97-98272c3e73d6
DTSTAMP:20260425T225558Z
SUMMARY:Bittmesse\, anschl. Bittgang zum Rödlekreuz
DESCRIPTION:https://pfarreien-bistum-augsburg.df-preview.de/bittmesse-ansch
 l-bittgang-zum-roedlekreuz_id1750702
DTSTART;TZID=Europe/Berlin:20260512T191500
DURATION:PT30M
LOCATION:St. Ulrich
END:VEVENT
END:VCALENDAR
